BEGIN:VCALENDAR
VERSION:2.0
PRODID:-//Tukios.com/
BEGIN:VEVENT
UID:d66adb58-05fe-4d1a-bc77-f22e0a3b8cc2@www.mcculloughfh.com
DTSTAMP:20260425T182648Z
DTSTART:20260427T150000Z
DTEND:20260427T160000Z
SUMMARY:Graveside Service
DESCRIPTION:
URL:https://www.mcculloughfh.com/obituaries/billy-summers
LOCATION: 4101 Mercer University Drive  Macon GA 31204
GEO:32.8298903;-83.7023835
END:VEVENT
END:VCALENDAR