BEGIN:VCALENDAR
VERSION:2.0
PRODID:-//Tukios.com/
BEGIN:VEVENT
UID:61400aef-6b1a-4865-988c-23172535f113@www.mcculloughfh.com
DTSTAMP:20260421T003425Z
DTSTART:20260423T180000Z
DTEND:20260423T190000Z
SUMMARY:Memorial Gathering
DESCRIPTION:
URL:https://www.mcculloughfh.com/obituaries/dorothy-sheila-woodall-horne
LOCATION: 417 South Houston Lake Road  Warner Robins GA 31088
GEO:32.6055218;-83.6764867
END:VEVENT
END:VCALENDAR