BEGIN:VCALENDAR
VERSION:2.0
PRODID:-//Tukios.com/
BEGIN:VEVENT
UID:69eb99f4-d947-4bec-8220-53de8bc793a1@www.mcculloughfh.com
DTSTAMP:20260421T003953Z
DTSTART:20260423T190000Z
DTEND:20260423T200000Z
SUMMARY:Celebration of Life
DESCRIPTION:
URL:https://www.mcculloughfh.com/obituaries/dorothy-sheila-woodall-horne
LOCATION:McCullough Funeral Home 417 South Houston Lake Road  Warner 
	Robins GA 31088
GEO:32.6055218;-83.6764867
END:VEVENT
END:VCALENDAR