BEGIN:VCALENDAR
VERSION:2.0
PRODID:-//Tukios.com/
BEGIN:VEVENT
UID:59703330-6dcb-410b-9a99-68422e140eb3@www.mcculloughfh.com
DTSTAMP:20260424T220008Z
DTSTART:20260427T160000Z
DTEND:20260427T170000Z
SUMMARY:Memorial Gathering
DESCRIPTION:
URL:https://www.mcculloughfh.com/obituaries/gregory-willeby
LOCATION:McCullough Funeral Home 417 South Houston Lake Road  Warner 
	Robins GA 31088
GEO:32.6055218;-83.6764867
END:VEVENT
END:VCALENDAR