BEGIN:VCALENDAR
VERSION:2.0
PRODID:-//Tukios.com/
BEGIN:VEVENT
UID:f8cb3f8b-31b1-49a9-b914-f911ecc6c183@www.mcculloughfh.com
DTSTAMP:20260424T215908Z
DTSTART:20260427T170000Z
DTEND:20260427T180000Z
SUMMARY:Memorial Service
DESCRIPTION:
URL:https://www.mcculloughfh.com/obituaries/gregory-willeby
LOCATION: 417 South Houston Lake Road  Warner Robins GA 31088
GEO:32.6055218;-83.6764867
END:VEVENT
END:VCALENDAR