BEGIN:VCALENDAR
VERSION:2.0
PRODID:-//Tukios.com/
BEGIN:VEVENT
UID:0ab1d92f-9b8c-48c6-a9ed-7516733ab39f@www.mcculloughfh.com
DTSTAMP:20260422T090306Z
DTSTART:20260418T200000Z
DTEND:20260418T210000Z
SUMMARY:Funeral Service
DESCRIPTION:
URL:https://www.mcculloughfh.com/obituaries/ignancia-talavera-jaimes
LOCATION: 5511 Bloomfield Rd  Macon GA 31206
GEO:32.7890184;-83.708333
END:VEVENT
END:VCALENDAR