BEGIN:VCALENDAR
VERSION:2.0
PRODID:-//Tukios.com/
BEGIN:VEVENT
UID:e756ac03-6f62-49f5-a6c9-fe3e313b3d5e@www.mcculloughfh.com
DTSTAMP:20260420T090151Z
DTSTART:20260418T210000Z
DTEND:20260418T220000Z
SUMMARY:Visitation
DESCRIPTION:
URL:https://www.mcculloughfh.com/obituaries/ignancia-talavera-jaimes
LOCATION:Iglesia De Dios Pentecostal El Aposento Alto 5511 Bloomfield Rd  
	Macon GA 31206
GEO:32.7890184;-83.708333
END:VEVENT
END:VCALENDAR