BEGIN:VCALENDAR
VERSION:2.0
PRODID:-//Tukios.com/
BEGIN:VEVENT
UID:56c1624e-f2d0-416f-b0b8-2b264c7351d7@www.mcculloughfh.com
DTSTAMP:20260423T182817Z
DTSTART:20260426T170000Z
DTEND:20260426T180000Z
SUMMARY:Memorial Gathering
DESCRIPTION:
URL:https://www.mcculloughfh.com/obituaries/kenneth-savage
LOCATION:McCullough Funeral Home 417 South Houston Lake Road  Warner 
	Robins GA 31088
GEO:32.6055218;-83.6764867
END:VEVENT
END:VCALENDAR