BEGIN:VCALENDAR
VERSION:2.0
PRODID:-//Tukios.com/
BEGIN:VEVENT
UID:8d827dc2-443d-4dbd-b504-a9f89f7ce450@www.mcculloughfh.com
DTSTAMP:20260423T182714Z
DTSTART:20260426T183000Z
DTEND:20260426T193000Z
SUMMARY:Graveside Service
DESCRIPTION:
URL:https://www.mcculloughfh.com/obituaries/kenneth-savage
LOCATION:Magnolia Park Cemetery 205 South Pleasant Hill Road  Warner 
	Robins GA 31088
GEO:32.6132648;-83.6248558
END:VEVENT
END:VCALENDAR