BEGIN:VCALENDAR
VERSION:2.0
PRODID:-//Tukios.com/
BEGIN:VEVENT
UID:14870ab3-eacb-4b90-b64e-b84ed5705496@www.mcculloughfh.com
DTSTAMP:20260422T083236Z
DTSTART:20260418T203000Z
DTEND:20260418T213000Z
SUMMARY:Memorial Service
DESCRIPTION:
URL:https://www.mcculloughfh.com/obituaries/larry-lapine
LOCATION: 417 South Houston Lake Road  Warner Robins GA 31088
GEO:32.6055218;-83.6764867
END:VEVENT
END:VCALENDAR