BEGIN:VCALENDAR
VERSION:2.0
PRODID:-//Tukios.com/
BEGIN:VEVENT
UID:53f7e463-79ed-41c2-8e4b-d58037e3c969@www.mcculloughfh.com
DTSTAMP:20260422T082607Z
DTSTART:20260418T193000Z
DTEND:20260418T203000Z
SUMMARY:Memorial Gathering
DESCRIPTION:
URL:https://www.mcculloughfh.com/obituaries/larry-lapine
LOCATION: 417 South Houston Lake Road  Warner Robins GA 31088
GEO:32.6055218;-83.6764867
END:VEVENT
END:VCALENDAR