BEGIN:VCALENDAR
VERSION:2.0
PRODID:-//Tukios.com/
BEGIN:VEVENT
UID:1a5cbf9e-71c1-4f07-a0de-7100acf03d1c@www.mcculloughfh.com
DTSTAMP:20260424T000512Z
DTSTART:20260426T190000Z
DTEND:20260426T200000Z
SUMMARY:Visitation
DESCRIPTION:
URL:https://www.mcculloughfh.com/obituaries/rev-lowell-smith
LOCATION:McCullough Funeral Home 417 South Houston Lake Road  Warner 
	Robins GA 31088
GEO:32.6055218;-83.6764867
END:VEVENT
END:VCALENDAR