BEGIN:VCALENDAR
VERSION:2.0
PRODID:-//Tukios.com/
BEGIN:VEVENT
UID:e5f67e5c-2263-4191-bc34-29fa3d840ffb@www.mcculloughfh.com
DTSTAMP:20260424T000308Z
DTSTART:20260427T140000Z
DTEND:20260427T150000Z
SUMMARY:Graveside Service
DESCRIPTION:
URL:https://www.mcculloughfh.com/obituaries/rev-lowell-smith
LOCATION:Andersonville National Cemetery 760 POW Road  Andersonville GA 
	31711
GEO:32.2002948;-84.1303207
END:VEVENT
END:VCALENDAR